BEGIN:VCALENDAR
VERSION:2.0
PRODID:-//wp-events-plugin.com//6.0.1.1//EN
BEGIN:VEVENT
UID:1228@c-r.si
DTSTART:20260223T000000Z
DTEND:20260831T000000Z
DTSTAMP:20260318T101645Z
URL:https://www.c-r.si/events/telovadba-za-poletje-summervit-v-centru-reev
 italizacije-v-novi-gorici/
SUMMARY:Telovadba za poletje
DESCRIPTION:\n\n&nbsp\;\n\nPust je šel mimo\, zima nas počasi zapušča.\
 n\nTelo je potrebno prebuditi iz zimskega spanja in ga popraviti na spomla
 danske aktivnosti.\n\n\n\n\n\nVsak Torek od 17:00 - 18:00 (pričnemo 24.2.
 2026) imamo za vas pripravljeno posebno "telovadbo za poletje".\n\nTelovad
 ba je primerna za vse\, ki so vsaj malo pripravljeni.\n\n\n\n\n\n\n\n\n\n\
 n&nbsp\;\n\nS Kombinacijo kardio vadbe\, vadbe za moč in čvrstost\, ter 
 vadbe za telesno držo – stabilizatorji bomo dosegli tako na izgledu\, k
 ot tudi na funkcionalnosti telesa maksimalni učinek.\n\nVeč o telovadbi 
 za poletje \n\nPrijave na testno vadbo: peter@c-r.si\n\nTelovadbo vodi Pet
 er Černe\n\n\n\n\n\n&nbsp\;
ATTACH;FMTTYPE=image/jpeg:https://www.c-r.si/wp-content/uploads/2020/03/Tr
 ebušne_M_44727622_xl_small_small.jpg
CATEGORIES:Obvestila,Vadba
LOCATION:Center Revitalizacije\, Delpinova ulica 22\, Nova Gorica\, Sloveni
 ja\, 5000\, Slovenia
GEO:45.956816;13.646995
X-APPLE-STRUCTURED-LOCATION;VALUE=URI;X-ADDRESS=Delpinova ulica 22\, Nova G
 orica\, Slovenija\, 5000\, Slovenia;X-APPLE-RADIUS=100;X-TITLE=Center Revi
 talizacije:geo:45.956816,13.646995
END:VEVENT
END:VCALENDAR