BEGIN:VCALENDAR
VERSION:2.0
PRODID:-//wp-events-plugin.com//6.0.1.1//EN
BEGIN:VEVENT
UID:1227@c-r.si
DTSTART:20260318T000000Z
DTEND:20260630T000000Z
DTSTAMP:20260318T100905Z
URL:https://www.c-r.si/events/prenovljen-fitnes-v-centru-revitalizacije-v-
 novi-gorici/
SUMMARY:Prenovljen Fitnes v Centru Revitalizacije v Novi Gorici
DESCRIPTION:PRENOVLJEN FITNES v Centru Revitalizacije v Novi Gorici\n\nSodo
 ben design\, usklajene barve\, veliko zelenja\, boljša svetloba ter močn
 ejša energija za večji učinek telovadbe.\n\nPripravili smo prijetnejše
 \, lepše in prijaznejše okolje za vadbo v fitnesu z namenom\, da bi se p
 ri nas bolje počutili\, da bi lahko med vadbo dali več od sebe in s tem 
 dosegli boljši učinek vadbe.\n\nPoleg barvne usklajenosti smo pri barvan
 ju upoštevali razmerja zlatega reza\, da bi v prostor vnesli harmonijo in
  prijetnost. Fitnes prostor za vadbo smo povečali\, zunanjo »hitro« gar
 derobo nekoliko premaknili\, razširili prostor za druženje\, počivanje 
 in kramljanje.\n\nZ zelenimi rastlinami smo v prostor vnesli pridih narave
  in majhen občutek\, kot da bi vadili zunaj.\n\nDodatna razsvetljava poln
 ega vidnega spektra svetlobe omogoča boljšo koncentracijo\, a obenem spr
 ošča in ima ugoden vpliv na oči in telo.\n\nNarisani simboli štirih el
 ementov (ognja\, vode\, zraka in zemlje) na vseh štirih stebrih prostora 
 vnašajo v prostor popolnost razmerij in kozmično harmonijo. Zato prostor
  diha drugače\, človeku bolj naravno in prijazno. Že sama prisotnost v 
 prostoru ugodno vpliva na celotno našo bit.\n\nPRISRČNO VABLJENI\n\n
ATTACH;FMTTYPE=image/jpeg:https://www.c-r.si/wp-content/uploads/2026/01/FL
 F_1673-scaled.jpg
CATEGORIES:Obvestila
LOCATION:Center Revitalizacije\, Delpinova ulica 22\, Nova Gorica\, Sloveni
 ja\, 5000\, Slovenia
GEO:45.956816;13.646995
X-APPLE-STRUCTURED-LOCATION;VALUE=URI;X-ADDRESS=Delpinova ulica 22\, Nova G
 orica\, Slovenija\, 5000\, Slovenia;X-APPLE-RADIUS=100;X-TITLE=Center Revi
 talizacije:geo:45.956816,13.646995
END:VEVENT
END:VCALENDAR