BEGIN:VCALENDAR
VERSION:2.0
PRODID:-//wp-events-plugin.com//6.0.1.1//EN
BEGIN:VEVENT
UID:1234@c-r.si
DTSTART:20260407T000000Z
DTEND:20260426T000000Z
DTSTAMP:20260407T134617Z
URL:https://www.c-r.si/events/festival-zdravja-2026-nova-gorica-center-rev
 ializacije/
SUMMARY:FESTIVAL ZDRAVJA 2026
DESCRIPTION:Dragi ljubitelji zdravja in dobrega počutja\,\n\nTudi letos pe
 ster izbor aktivnosti v okviru festival zdravja.\n\nFestival bo letos pote
 kal od 7.4. do 26.4. \n\nDogodki in udeležbe na vadbah so brezplačni.\n
 \nOsrednji dogodek sreda 8.4. Sejem zdravja na Bevkovem trgu\n\nCELOTNI PR
 OGRAM FESTIVALA ZDRAVJA - KLIKNI :).\n\n&nbsp\;\n\nToplo priporočam:\nMo
 ški\, ženska in odnosi - kako izboljšati odnose "brez prilagajanja in o
 drekanja" - uvodno predavanje\nDejstvo je\, da smo polarni - eni moški\, 
 drugi ženske. Kako upravljamo z našo polarnost in kake odnose imamo do s
 ebe in do "nasprotnega pola"\, pa je izključno odvisno od nas samih\, od 
 vsakega posebej.\n\n13 Apr   16:00 - 17:00\nSpolnost in njen širši po
 men - uvodno predavanje\nLe nadzorovano obvladovanje spolnega ognja in str
 asti vodi v dolg in pogost spolni odnos\, v dvigovanje življenjskih sil\,
  ter v revitalizacijo telesa\, uma in duše.\n\n15 Apr   16:00 - 16:45\
 nPot odrešitve – od trpljenja k sreči in zdravju – razumevanje dolo
 čenosti in zaupanje v prihodnost\, uvodno predavanje\nČe je vse določen
 o in je določeno dobro. Zakaj se nam dogaja »slabo«? Kdo se umešava v 
 naše življenjske poti? Kako dobim svojo pot nazaj?\n\nDodana spoznanja i
 n nekatere usmeritve vam bodo olajšale razumevanje in uporabo »sistema o
 drešitve«.\n\n20 Apr   16:00 - 16:45\n\n&nbsp\;
ATTACH;FMTTYPE=image/jpeg:https://www.c-r.si/wp-content/uploads/2026/04/Fe
 stival-zdravja_26_plakat_web.jpg
LOCATION:Center Revitalizacije\, Delpinova ulica 22\, Nova Gorica\, Sloveni
 ja\, 5000\, Slovenia
GEO:45.956816;13.646995
X-APPLE-STRUCTURED-LOCATION;VALUE=URI;X-ADDRESS=Delpinova ulica 22\, Nova G
 orica\, Slovenija\, 5000\, Slovenia;X-APPLE-RADIUS=100;X-TITLE=Center Revi
 talizacije:geo:45.956816,13.646995
END:VEVENT
END:VCALENDAR